Workbook

Sheet Insights
B2: Continental Divide Trail Statistic Insights
C4: CDT | E4: PCT | F4: (for comparison only)
B5: Total Miles Hiked: | C5: =Stats!F154 -> 2716 | E5: 2704.2
B6: Total Days On Trail: | C6: =Stats!D154 -> 149 | E6: 132
B7: Total Elevation Gain (ft): | C7: =C18+C24+C30+C36 -> 477248 | E7: 489418
B8: Total Elevation Loss (ft): | C8: =C19+C25+C31+C37 -> 478285 | E8: 488411
B10: Average Mileage (Daily): | C10: =Stats!H154 -> 18.228188 | E10: 20.72
B11: Average Mileage (Weekly): | C11: =Stats!AC161 -> 126.44863 | E11: 143.65
B12: Average Mileage (Monthly): | C12: =Stats!AF161 -> 508.176 | E12: 577.11
B13: Most Miles Hiked in 1 Day: | C13: =Stats!E66 -> 35 | E13: 35
B15: Montana/Idaho Days: | C15: =Stats!A55 -> 53 | E15: n/a
B16: Montana/Idaho Miles: | C16: =Stats!A53 -> 897.4 | E16: n/a
B17: Montana/Idaho Avg (miles/day): | C17: =Stats!A57 -> 16.932075 | E17: n/a
B18: Montana/Idaho Elevation Gain(ft): | C18: 179354 | E18: n/a
B19: Montana/Idaho Elevation Loss(ft): | C19: 176228 | E19: n/a
B21: Wyoming Days: | C21: =Stats!A81 -> 25 | E21: n/a
B22: Wyoming Miles: | C22: =Stats!A79 -> 493.6 | E22: n/a
B23: Wyoming Avg: | C23: =Stats!A83 -> 19.744 | E23: n/a
B24: Wyoming Elevation Gain(ft): | C24: 72654 | E24: n/a
B25: Wyoming Elevation Loss(ft): | C25: 71798 | E25: n/a
B27: Colorado Days: | C27: =Stats!A121 -> 40 | E27: n/a
B28: Colorado Miles: | C28: =Stats!A118 -> 658.6 | E28: n/a
B29: Colorado Avg: | C29: =Stats!A123 -> 16.465 | E29: n/a
B30: Colorado Elevation Gain(ft): | C30: 149003 | E30: n/a
B31: Colorado Elevation Loss(ft): | C31: 147936 | E31: n/a
B33: New Mexico Days: | C33: =Stats!A152 -> 31 | E33: n/a
B34: New Mexico Miles: | C34: =Stats!A150 -> 666.4 | E34: n/a
B35: New Mexico Avg: | C35: =Stats!A154 -> 21.496774 | E35: n/a
B36: New Mexico Elevation Gain(ft): | C36: 76237 | E36: n/a
B37: New Mexico Elevation Loss(ft): | C37: 82323 | E37: n/a
B39: Nights with Tent: | C39: =Stats!J157 -> 72 | E39: 20
B40: Nights with Roof: | C40: =Stats!K157 -> 32 | E40: 18
B41: Nights Cowboy Camped: | C41: =Stats!I157 -> 45 | E41: 102
B42: Zeros Taken: | C42: =Stats!L157 -> 10 | E42: 7
B43: Neros (<10 miles hiked) Taken: | C43: =Stats!O157-C42 -> 19 | E43: 8
B44: # Pairs of Shoes: | C44: =Stats!R157 -> 4 | E44: 5
B45: Lowest Temperature(°F): | C45: -2 | E45: ?
B46: Triple Rainbows observed: | C46: 1 | E46: 0
B48: Max. Distance/Time between: | C48: miles | D48: days | E48: miles | F48: days
B49: Zeros | C49: =Stats!M157 -> 641.3 | D49: =Stats!N157 -> 33 | E49: 1128 | F49: 50
...

Sheet Charts

Sheet Stats
M1: Zeros | P1: Neros | S1: New Shoes | V1: Laundry | Y1: Shower
M2: since last | P2: since last | S2: since last | V2: since last | Y2: since last | AB2: miles hiked in the last
A3: State | B3: Civilization | C3: Date | D3: Day | E3: Miles | F3: Total | G3: Bonus | H3: Average | I3: Camp | J3: Tent? | K3: Roof? | L3: ? | M3: miles | N3: days | O3: ? | P3: miles | Q3: days | R3: ? | S3: miles | T3: days | U3: ? | V3: miles | W3: days | X3: ? | Y3: miles | Z3: days | AA3: 3 Days | AB3: 5 Days | AC3: 7 Days | AD3: 10 Days | AE3: 14 Days | AF3: 4 Weeks
A4: Montana | B4: Chief Mountain | C4: 43640 | D4: 1 | E4: 13.5 | F4: 13.5 | H4: =F4/D4 -> 13.5 | I4: Say Hey Bear Midnight | J4: y | K4: n | L4: =IF(E4=0,"y","") | M4: =F4 -> 13.5 | N4: =D4 -> 1 | O4: =IF(L4<>"y", IF(E4<10,"y",""),"") | P4: =E4 -> 13.5 | Q4: =D4 -> 1 | S4: =E4 -> 13.5 | T4: =D4 -> 1 | V4: =E4 -> 13.5 | W4: =D4 -> 1 | Y4: =E4 -> 13.5 | Z4: =D4 -> 1
C5: 43641 | D5: 1.2 | E5: 1 | F5: 14.5 | H5: =F5/D5 -> 12.083333 | I5: Lake of Leisure | J5: y | K5: n | L5: =IF(E5=0,"y","") | M5: =IF(L4="y",E5,M4+E5) -> 14.5 | N5: =IF(L4="y",1,N4+1) -> 2 | O5: =IF(L5<>"y", IF(E5<10,"y",""),"") -> y | P5: =IF(O4="y",E5,P4+E5) -> 14.5 | Q5: =IF(O4="y",1,Q4+1) -> 2 | S5: =IF(R4="y",$E5,S4+$E5) -> 14.5 | T5: =IF(R4="y",1,T4+1) -> 2 | V5: =IF(U4="y",$E5,V4+$E5) -> 14.5 | W5: =IF(U4="y",1,W4+1) -> 2 | Y5: =IF(X4="y",$E5,Y4+$E5) -> 14.5 | Z5: =IF(X4="y",1,Z4+1) -> 2
C6: 43642 | D6: 1.5 | E6: 8 | F6: 22.5 | H6: =F6/D6 -> 15 | I6: Perfect Privy | J6: y | K6: n | L6: =IF(E6=0,"y","") | M6: =IF(L5="y",E6,M5+E6) -> 22.5 | N6: =IF(L5="y",1,N5+1) -> 3 | O6: =IF(L6<>"y", IF(E6<10,"y",""),"") -> y | P6: =IF(O5="y",E6,P5+E6) -> 8 | Q6: =IF(O5="y",1,Q5+1) -> 1 | S6: =IF(R5="y",$E6,S5+$E6) -> 22.5 | T6: =IF(R5="y",1,T5+1) -> 3 | V6: =IF(U5="y",$E6,V5+$E6) -> 22.5 | W6: =IF(U5="y",1,W5+1) -> 3 | Y6: =IF(X5="y",$E6,Y5+$E6) -> 22.5 | Z6: =IF(X5="y",1,Z5+1) -> 3 | AA6: =SUM(E4:E6) -> 22.5
C7: 43643 | D7: 2 | E7: 14.4 | F7: 36.9 | H7: =F7/D7 -> 18.45 | I7: William Merrybeet | J7: y | K7: n | L7: =IF(E7=0,"y","") | M7: =IF(L6="y",E7,M6+E7) -> 36.9 | N7: =IF(L6="y",1,N6+1) -> 4 | O7: =IF(L7<>"y", IF(E7<10,"y",""),"") | P7: =IF(O6="y",E7,P6+E7) -> 14.4 | Q7: =IF(O6="y",1,Q6+1) -> 1 | S7: =IF(R6="y",$E7,S6+$E7) -> 36.9 | T7: =IF(R6="y",1,T6+1) -> 4 | V7: =IF(U6="y",$E7,V6+$E7) -> 36.9 | W7: =IF(U6="y",1,W6+1) -> 4 | Y7: =IF(X6="y",$E7,Y6+$E7) -> 36.9 | Z7: =IF(X6="y",1,Z6+1) -> 4 | AA7: =SUM(E5:E7) -> 23.4
A8: Week 1 | C8: 43644 | D8: 3 | E8: 23.2 | F8: 60.1 | H8: =F8/D8 -> 20.033333 | I8: Triple Decker PB&J | J8: y | K8: n | L8: =IF(E8=0,"y","") | M8: =IF(L7="y",E8,M7+E8) -> 60.1 | N8: =IF(L7="y",1,N7+1) -> 5 | O8: =IF(L8<>"y", IF(E8<10,"y",""),"") | P8: =IF(O7="y",E8,P7+E8) -> 37.6 | Q8: =IF(O7="y",1,Q7+1) -> 2 | S8: =IF(R7="y",$E8,S7+$E8) -> 60.1 | T8: =IF(R7="y",1,T7+1) -> 5 | V8: =IF(U7="y",$E8,V7+$E8) -> 60.1 | W8: =IF(U7="y",1,W7+1) -> 5 | Y8: =IF(X7="y",$E8,Y7+$E8) -> 60.1 | Z8: =IF(X7="y",1,Z7+1) -> 5 | AA8: =SUM(E6:E8) -> 45.6 | AB8: =SUM(E4:E8) -> 60.1
C9: 43645 | D9: 4 | E9: 14.6 | F9: 74.7 | H9: =F9/D9 -> 18.675 | I9: Bonus Hour | J9: y | K9: n | L9: =IF(E9=0,"y","") | M9: =IF(L8="y",E9,M8+E9) -> 74.7 | N9: =IF(L8="y",1,N8+1) -> 6 | O9: =IF(L9<>"y", IF(E9<10,"y",""),"") | P9: =IF(O8="y",E9,P8+E9) -> 52.2 | Q9: =IF(O8="y",1,Q8+1) -> 3 | S9: =IF(R8="y",$E9,S8+$E9) -> 74.7 | T9: =IF(R8="y",1,T8+1) -> 6 | V9: =IF(U8="y",$E9,V8+$E9) -> 74.7 | W9: =IF(U8="y",1,W8+1) -> 6 | Y9: =IF(X8="y",$E9,Y8+$E9) -> 74.7 | Z9: =IF(X8="y",1,Z8+1) -> 6 | AA9: =SUM(E7:E9) -> 52.2 | AB9: =SUM(E5:E9) -> 61.2
C10: 43646 | D10: 5 | E10: 18.5 | F10: 93.2 | H10: =F10/D10 -> 18.64 | I10: Solo Winter | J10: y | K10: n | L10: =IF(E10=0,"y","") | M10: =IF(L9="y",E10,M9+E10) -> 93.2 | N10: =IF(L9="y",1,N9+1) -> 7 | O10: =IF(L10<>"y", IF(E10<10,"y",""),"") | P10: =IF(O9="y",E10,P9+E10) -> 70.7 | Q10: =IF(O9="y",1,Q9+1) -> 4 | S10: =IF(R9="y",$E10,S9+$E10) -> 93.2 | T10: =IF(R9="y",1,T9+1) -> 7 | V10: =IF(U9="y",$E10,V9+$E10) -> 93.2 | W10: =IF(U9="y",1,W9+1) -> 7 | Y10: =IF(X9="y",$E10,Y9+$E10) -> 93.2 | Z10: =IF(X9="y",1,Z9+1) -> 7 | AA10: =SUM(E8:E10) -> 56.3 | AB10: =SUM(E6:E10) -> 78.7 | AC10: =SUM(E4:E10) -> 93.2
C11: 43647 | D11: 6 | E11: 7.2 | F11: 100.4 | H11: =F11/D11 -> 16.733333 | I11: Nobo PCT | J11: y | K11: n | L11: =IF(E11=0,"y","") | M11: =IF(L10="y",E11,M10+E11) -> 100.4 | N11: =IF(L10="y",1,N10+1) -> 8 | O11: =IF(L11<>"y", IF(E11<10,"y",""),"") -> y | P11: =IF(O10="y",E11,P10+E11) -> 77.9 | Q11: =IF(O10="y",1,Q10+1) -> 5 | S11: =IF(R10="y",$E11,S10+$E11) -> 100.4 | T11: =IF(R10="y",1,T10+1) -> 8 | V11: =IF(U10="y",$E11,V10+$E11) -> 100.4 | W11: =IF(U10="y",1,W10+1) -> 8 | Y11: =IF(X10="y",$E11,Y10+$E11) -> 100.4 | Z11: =IF(X10="y",1,Z10+1) -> 8 | AA11: =SUM(E9:E11) -> 40.3 | AB11: =SUM(E7:E11) -> 77.9 | AC11: =SUM(E5:E11) -> 86.9
B12: East Glacier | C12: 43648 | D12: 7 | E12: 11.5 | F12: 111.9 | H12: =F12/D12 -> 15.985714 | I12: Brownie's Hostel | J12: n | K12: y | L12: =IF(E12=0,"y","") | M12: =IF(L11="y",E12,M11+E12) -> 111.9 | N12: =IF(L11="y",1,N11+1) -> 9 | O12: =IF(L12<>"y", IF(E12<10,"y",""),"") | P12: =IF(O11="y",E12,P11+E12) -> 11.5 | Q12: =IF(O11="y",1,Q11+1) -> 1 | S12: =IF(R11="y",$E12,S11+$E12) -> 111.9 | T12: =IF(R11="y",1,T11+1) -> 9 | V12: =IF(U11="y",$E12,V11+$E12) -> 111.9 | W12: =IF(U11="y",1,W11+1) -> 9 | X12: y | Y12: =IF(X11="y",$E12,Y11+$E12) -> 111.9 | Z12: =IF(X11="y",1,Z11+1) -> 9 | AA12: =SUM(E10:E12) -> 37.2 | AB12: =SUM(E8:E12) -> 75 | AC12: =SUM(E6:E12) -> 97.4
C13: 43649 | D13: 8 | E13: 5.5 | F13: 117.4 | H13: =F13/D13 -> 14.675 | I13: Shhh Secret | J13: y | K13: n | L13: =IF(E13=0,"y","") | M13: =IF(L12="y",E13,M12+E13) -> 117.4 | N13: =IF(L12="y",1,N12+1) -> 10 | O13: =IF(L13<>"y", IF(E13<10,"y",""),"") -> y | P13: =IF(O12="y",E13,P12+E13) -> 17 | Q13: =IF(O12="y",1,Q12+1) -> 2 | S13: =IF(R12="y",$E13,S12+$E13) -> 117.4 | T13: =IF(R12="y",1,T12+1) -> 10 | V13: =IF(U12="y",$E13,V12+$E13) -> 117.4 | W13: =IF(U12="y",1,W12+1) -> 10 | Y13: =IF(X12="y",$E13,Y12+$E13) -> 5.5 | Z13: =IF(X12="y",1,Z12+1) -> 1 | AA13: =SUM(E11:E13) -> 24.2 | AB13: =SUM(E9:E13) -> 57.3 | AC13: =SUM(E7:E13) -> 94.9 | AD13: =SUM(E4:E13) -> 117.4
C14: 43650 | D14: 9 | E14: 17 | F14: 134.4 | H14: =F14/D14 -> 14.933333 | I14: Comfy Cemetary | J14: y | K14: n | L14: =IF(E14=0,"y","") | M14: =IF(L13="y",E14,M13+E14) -> 134.4 | N14: =IF(L13="y",1,N13+1) -> 11 | O14: =IF(L14<>"y", IF(E14<10,"y",""),"") | P14: =IF(O13="y",E14,P13+E14) -> 17 | Q14: =IF(O13="y",1,Q13+1) -> 1 | S14: =IF(R13="y",$E14,S13+$E14) -> 134.4 | T14: =IF(R13="y",1,T13+1) -> 11 | V14: =IF(U13="y",$E14,V13+$E14) -> 134.4 | W14: =IF(U13="y",1,W13+1) -> 11 | Y14: =IF(X13="y",$E14,Y13+$E14) -> 22.5 | Z14: =IF(X13="y",1,Z13+1) -> 2 | AA14: =SUM(E12:E14) -> 34 | AB14: =SUM(E10:E14) -> 59.7 | AC14: =SUM(E8:E14) -> 97.5 | AD14: =SUM(E5:E14) -> 120.9
C15: 43651 | D15: 10 | E15: 17 | F15: 151.4 | H15: =F15/D15 -> 15.14 | I15: Cold Soak Date | J15: y | K15: n | L15: =IF(E15=0,"y","") | M15: =IF(L14="y",E15,M14+E15) -> 151.4 | N15: =IF(L14="y",1,N14+1) -> 12 | O15: =IF(L15<>"y", IF(E15<10,"y",""),"") | P15: =IF(O14="y",E15,P14+E15) -> 34 | Q15: =IF(O14="y",1,Q14+1) -> 2 | S15: =IF(R14="y",$E15,S14+$E15) -> 151.4 | T15: =IF(R14="y",1,T14+1) -> 12 | V15: =IF(U14="y",$E15,V14+$E15) -> 151.4 | W15: =IF(U14="y",1,W14+1) -> 12 | Y15: =IF(X14="y",$E15,Y14+$E15) -> 39.5 | Z15: =IF(X14="y",1,Z14+1) -> 3 | AA15: =SUM(E13:E15) -> 39.5 | AB15: =SUM(E11:E15) -> 58.2 | AC15: =SUM(E9:E15) -> 91.3 | AD15: =SUM(E6:E15) -> 136.9
A16: Week 2 | C16: 43652 | D16: 11 | E16: 15.5 | F16: 166.9 | H16: =F16/D16 -> 15.172727 | I16: Strawberry Field | J16: y | K16: n | L16: =IF(E16=0,"y","") | M16: =IF(L15="y",E16,M15+E16) -> 166.9 | N16: =IF(L15="y",1,N15+1) -> 13 | O16: =IF(L16<>"y", IF(E16<10,"y",""),"") | P16: =IF(O15="y",E16,P15+E16) -> 49.5 | Q16: =IF(O15="y",1,Q15+1) -> 3 | S16: =IF(R15="y",$E16,S15+$E16) -> 166.9 | T16: =IF(R15="y",1,T15+1) -> 13 | V16: =IF(U15="y",$E16,V15+$E16) -> 166.9 | W16: =IF(U15="y",1,W15+1) -> 13 | Y16: =IF(X15="y",$E16,Y15+$E16) -> 55 | Z16: =IF(X15="y",1,Z15+1) -> 4 | AA16: =SUM(E14:E16) -> 49.5 | AB16: =SUM(E12:E16) -> 66.5 | AC16: =SUM(E10:E16) -> 92.2 | AD16: =SUM(E7:E16) -> 144.4
C17: 43653 | D17: 12 | E17: 17.5 | F17: 184.4 | H17: =F17/D17 -> 15.366667 | I17: Cute Switchbacks | J17: y | K17: n | L17: =IF(E17=0,"y","") | M17: =IF(L16="y",E17,M16+E17) -> 184.4 | N17: =IF(L16="y",1,N16+1) -> 14 | O17: =IF(L17<>"y", IF(E17<10,"y",""),"") | P17: =IF(O16="y",E17,P16+E17) -> 67 | Q17: =IF(O16="y",1,Q16+1) -> 4 | S17: =IF(R16="y",$E17,S16+$E17) -> 184.4 | T17: =IF(R16="y",1,T16+1) -> 14 | V17: =IF(U16="y",$E17,V16+$E17) -> 184.4 | W17: =IF(U16="y",1,W16+1) -> 14 | Y17: =IF(X16="y",$E17,Y16+$E17) -> 72.5 | Z17: =IF(X16="y",1,Z16+1) -> 5 | AA17: =SUM(E15:E17) -> 50 | AB17: =SUM(E13:E17) -> 72.5 | AC17: =SUM(E11:E17) -> 91.2 | AD17: =SUM(E8:E17) -> 147.5 | AE17: =SUM(E4:E17) -> 184.4
C18: 43654 | D18: 13 | E18: 17.3 | F18: 201.7 | H18: =F18/D18 -> 15.515385 | I18: I'm Feeling Hot Hot Hot | J18: y | K18: n | L18: =IF(E18=0,"y","") | M18: =IF(L17="y",E18,M17+E18) -> 201.7 | N18: =IF(L17="y",1,N17+1) -> 15 | O18: =IF(L18<>"y", IF(E18<10,"y",""),"") | P18: =IF(O17="y",E18,P17+E18) -> 84.3 | Q18: =IF(O17="y",1,Q17+1) -> 5 | S18: =IF(R17="y",$E18,S17+$E18) -> 201.7 | T18: =IF(R17="y",1,T17+1) -> 15 | V18: =IF(U17="y",$E18,V17+$E18) -> 201.7 | W18: =IF(U17="y",1,W17+1) -> 15 | Y18: =IF(X17="y",$E18,Y17+$E18) -> 89.8 | Z18: =IF(X17="y",1,Z17+1) -> 6 | AA18: =SUM(E16:E18) -> 50.3 | AB18: =SUM(E14:E18) -> 84.3 | AC18: =SUM(E12:E18) -> 101.3 | AD18: =SUM(E9:E18) -> 141.6 | AE18: =SUM(E5:E18) -> 188.2
C19: 43655 | D19: 14 | E19: 18.3 | F19: 220 | H19: =F19/D19 -> 15.714286 | I19: Golden Hour Meadow | J19: y | K19: n | L19: =IF(E19=0,"y","") | M19: =IF(L18="y",E19,M18+E19) -> 220 | N19: =IF(L18="y",1,N18+1) -> 16 | O19: =IF(L19<>"y", IF(E19<10,"y",""),"") | P19: =IF(O18="y",E19,P18+E19) -> 102.6 | Q19: =IF(O18="y",1,Q18+1) -> 6 | S19: =IF(R18="y",$E19,S18+$E19) -> 220 | T19: =IF(R18="y",1,T18+1) -> 16 | V19: =IF(U18="y",$E19,V18+$E19) -> 220 | W19: =IF(U18="y",1,W18+1) -> 16 | Y19: =IF(X18="y",$E19,Y18+$E19) -> 108.1 | Z19: =IF(X18="y",1,Z18+1) -> 7 | AA19: =SUM(E17:E19) -> 53.1 | AB19: =SUM(E15:E19) -> 85.6 | AC19: =SUM(E13:E19) -> 108.1 | AD19: =SUM(E10:E19) -> 145.3 | AE19: =SUM(E6:E19) -> 205.5
B20: Benchmark/Augusta | C20: 43656 | D20: 15 | E20: 9.4 | F20: 229.4 | H20: =F20/D20 -> 15.293333 | I20: Kalamatagusta | J20: y | K20: n | L20: =IF(E20=0,"y","") | M20: =IF(L19="y",E20,M19+E20) -> 229.4 | N20: =IF(L19="y",1,N19+1) -> 17 | O20: =IF(L20<>"y", IF(E20<10,"y",""),"") -> y | P20: =IF(O19="y",E20,P19+E20) -> 112 | Q20: =IF(O19="y",1,Q19+1) -> 7 | S20: =IF(R19="y",$E20,S19+$E20) -> 229.4 | T20: =IF(R19="y",1,T19+1) -> 17 | V20: =IF(U19="y",$E20,V19+$E20) -> 229.4 | W20: =IF(U19="y",1,W19+1) -> 17 | Y20: =IF(X19="y",$E20,Y19+$E20) -> 117.5 | Z20: =IF(X19="y",1,Z19+1) -> 8 | AA20: =SUM(E18:E20) -> 45 | AB20: =SUM(E16:E20) -> 78 | AC20: =SUM(E14:E20) -> 112 | AD20: =SUM(E11:E20) -> 136.2 | AE20: =SUM(E7:E20) -> 206.9
C21: 43657 | D21: 16 | E21: 18.8 | F21: 248.2 | H21: =F21/D21 -> 15.5125 | I21: Butterfly Enlightenment | J21: y | K21: n | L21: =IF(E21=0,"y","") | M21: =IF(L20="y",E21,M20+E21) -> 248.2 | N21: =IF(L20="y",1,N20+1) -> 18 | O21: =IF(L21<>"y", IF(E21<10,"y",""),"") | P21: =IF(O20="y",E21,P20+E21) -> 18.8 | Q21: =IF(O20="y",1,Q20+1) -> 1 | S21: =IF(R20="y",$E21,S20+$E21) -> 248.2 | T21: =IF(R20="y",1,T20+1) -> 18 | V21: =IF(U20="y",$E21,V20+$E21) -> 248.2 | W21: =IF(U20="y",1,W20+1) -> 18 | Y21: =IF(X20="y",$E21,Y20+$E21) -> 136.3 | Z21: =IF(X20="y",1,Z20+1) -> 9 | AA21: =SUM(E19:E21) -> 46.5 | AB21: =SUM(E17:E21) -> 81.3 | AC21: =SUM(E15:E21) -> 113.8 | AD21: =SUM(E12:E21) -> 147.8 | AE21: =SUM(E8:E21) -> 211.3
C22: 43658 | D22: 17 | E22: 17.8 | F22: 266 | H22: =F22/D22 -> 15.647059 | I22: Bonus Climb Sunset | J22: y | K22: n | L22: =IF(E22=0,"y","") | M22: =IF(L21="y",E22,M21+E22) -> 266 | N22: =IF(L21="y",1,N21+1) -> 19 | O22: =IF(L22<>"y", IF(E22<10,"y",""),"") | P22: =IF(O21="y",E22,P21+E22) -> 36.6 | Q22: =IF(O21="y",1,Q21+1) -> 2 | S22: =IF(R21="y",$E22,S21+$E22) -> 266 | T22: =IF(R21="y",1,T21+1) -> 19 | V22: =IF(U21="y",$E22,V21+$E22) -> 266 | W22: =IF(U21="y",1,W21+1) -> 19 | Y22: =IF(X21="y",$E22,Y21+$E22) -> 154.1 | Z22: =IF(X21="y",1,Z21+1) -> 10 | AA22: =SUM(E20:E22) -> 46 | AB22: =SUM(E18:E22) -> 81.6 | AC22: =SUM(E16:E22) -> 114.6 | AD22: =SUM(E13:E22) -> 154.1 | AE22: =SUM(E9:E22) -> 205.9
A23: Week 3 | C23: 43659 | D23: 18 | E23: 18 | F23: 284 | H23: =F23/D23 -> 15.777778 | I23: Golden Water Source | J23: y | K23: n | L23: =IF(E23=0,"y","") | M23: =IF(L22="y",E23,M22+E23) -> 284 | N23: =IF(L22="y",1,N22+1) -> 20 | O23: =IF(L23<>"y", IF(E23<10,"y",""),"") | P23: =IF(O22="y",E23,P22+E23) -> 54.6 | Q23: =IF(O22="y",1,Q22+1) -> 3 | S23: =IF(R22="y",$E23,S22+$E23) -> 284 | T23: =IF(R22="y",1,T22+1) -> 20 | V23: =IF(U22="y",$E23,V22+$E23) -> 284 | W23: =IF(U22="y",1,W22+1) -> 20 | Y23: =IF(X22="y",$E23,Y22+$E23) -> 172.1 | Z23: =IF(X22="y",1,Z22+1) -> 11 | AA23: =SUM(E21:E23) -> 54.6 | AB23: =SUM(E19:E23) -> 82.3 | AC23: =SUM(E17:E23) -> 117.1 | AD23: =SUM(E14:E23) -> 166.6 | AE23: =SUM(E10:E23) -> 209.3
C24: 43660 | D24: 19 | E24: 18.1 | F24: 302.1 | H24: =F24/D24 -> 15.9 | I24: Beautiful Moon Dead Log | J24: y | K24: n | L24: =IF(E24=0,"y","") | M24: =IF(L23="y",E24,M23+E24) -> 302.1 | N24: =IF(L23="y",1,N23+1) -> 21 | O24: =IF(L24<>"y", IF(E24<10,"y",""),"") | P24: =IF(O23="y",E24,P23+E24) -> 72.7 | Q24: =IF(O23="y",1,Q23+1) -> 4 | S24: =IF(R23="y",$E24,S23+$E24) -> 302.1 | T24: =IF(R23="y",1,T23+1) -> 21 | V24: =IF(U23="y",$E24,V23+$E24) -> 302.1 | W24: =IF(U23="y",1,W23+1) -> 21 | Y24: =IF(X23="y",$E24,Y23+$E24) -> 190.2 | Z24: =IF(X23="y",1,Z23+1) -> 12 | AA24: =SUM(E22:E24) -> 53.9 | AB24: =SUM(E20:E24) -> 82.1 | AC24: =SUM(E18:E24) -> 117.7 | AD24: =SUM(E15:E24) -> 167.7 | AE24: =SUM(E11:E24) -> 208.9
C25: 43661 | D25: 20 | E25: 21.1 | F25: 323.2 | H25: =F25/D25 -> 16.16 | I25: Edge of the Divide | J25: y | K25: n | L25: =IF(E25=0,"y","") | M25: =IF(L24="y",E25,M24+E25) -> 323.2 | N25: =IF(L24="y",1,N24+1) -> 22 | O25: =IF(L25<>"y", IF(E25<10,"y",""),"") | P25: =IF(O24="y",E25,P24+E25) -> 93.8 | Q25: =IF(O24="y",1,Q24+1) -> 5 | S25: =IF(R24="y",$E25,S24+$E25) -> 323.2 | T25: =IF(R24="y",1,T24+1) -> 22 | V25: =IF(U24="y",$E25,V24+$E25) -> 323.2 | W25: =IF(U24="y",1,W24+1) -> 22 | Y25: =IF(X24="y",$E25,Y24+$E25) -> 211.3 | Z25: =IF(X24="y",1,Z24+1) -> 13 | AA25: =SUM(E23:E25) -> 57.2 | AB25: =SUM(E21:E25) -> 93.8 | AC25: =SUM(E19:E25) -> 121.5 | AD25: =SUM(E16:E25) -> 171.8 | AE25: =SUM(E12:E25) -> 222.8
C26: 43662 | D26: 21 | E26: 21 | F26: 344.2 | H26: =F26/D26 -> 16.390476 | I26: 21 is the New 31 Miles Meadow | J26: y | K26: n | L26: =IF(E26=0,"y","") | M26: =IF(L25="y",E26,M25+E26) -> 344.2 | N26: =IF(L25="y",1,N25+1) -> 23 | O26: =IF(L26<>"y", IF(E26<10,"y",""),"") | P26: =IF(O25="y",E26,P25+E26) -> 114.8 | Q26: =IF(O25="y",1,Q25+1) -> 6 | S26: =IF(R25="y",$E26,S25+$E26) -> 344.2 | T26: =IF(R25="y",1,T25+1) -> 23 | V26: =IF(U25="y",$E26,V25+$E26) -> 344.2 | W26: =IF(U25="y",1,W25+1) -> 23 | Y26: =IF(X25="y",$E26,Y25+$E26) -> 232.3 | Z26: =IF(X25="y",1,Z25+1) -> 14 | AA26: =SUM(E24:E26) -> 60.2 | AB26: =SUM(E22:E26) -> 96 | AC26: =SUM(E20:E26) -> 124.2 | AD26: =SUM(E17:E26) -> 177.3 | AE26: =SUM(E13:E26) -> 232.3
B27: Helena | C27: 43663 | D27: 22 | E27: 8.5 | F27: 352.7 | H27: =F27/D27 -> 16.031818 | I27: Budget Inn Express | J27: n | K27: y | L27: =IF(E27=0,"y","") | M27: =IF(L26="y",E27,M26+E27) -> 352.7 | N27: =IF(L26="y",1,N26+1) -> 24 | O27: =IF(L27<>"y", IF(E27<10,"y",""),"") -> y | P27: =IF(O26="y",E27,P26+E27) -> 123.3 | Q27: =IF(O26="y",1,Q26+1) -> 7 | S27: =IF(R26="y",$E27,S26+$E27) -> 352.7 | T27: =IF(R26="y",1,T26+1) -> 24 | U27: y | V27: =IF(U26="y",$E27,V26+$E27) -> 352.7 | W27: =IF(U26="y",1,W26+1) -> 24 | X27: y | Y27: =IF(X26="y",$E27,Y26+$E27) -> 240.8 | Z27: =IF(X26="y",1,Z26+1) -> 15 | AA27: =SUM(E25:E27) -> 50.6 | AB27: =SUM(E23:E27) -> 86.7 | AC27: =SUM(E21:E27) -> 123.3 | AD27: =SUM(E18:E27) -> 168.3 | AE27: =SUM(E14:E27) -> 235.3
C28: 43664 | D28: 23 | E28: 0 | F28: 352.7 | H28: =F28/D28 -> 15.334783 | I28: Zero in Helena | J28: n | K28: y | L28: =IF(E28=0,"y","") -> y | M28: =IF(L27="y",E28,M27+E28) -> 352.7 | N28: =IF(L27="y",1,N27+1) -> 25 | O28: y | P28: =IF(O27="y",E28,P27+E28) -> 0 | Q28: =IF(O27="y",1,Q27+1) -> 1 | S28: =IF(R27="y",$E28,S27+$E28) -> 352.7 | T28: =IF(R27="y",1,T27+1) -> 25 | V28: =IF(U27="y",$E28,V27+$E28) -> 0 | W28: =IF(U27="y",1,W27+1) -> 1 | X28: y | Y28: =IF(X27="y",$E28,Y27+$E28) -> 0 | Z28: =IF(X27="y",1,Z27+1) -> 1 | AA28: =SUM(E26:E28) -> 29.5 | AB28: =SUM(E24:E28) -> 68.7 | AC28: =SUM(E22:E28) -> 104.5 | AD28: =SUM(E19:E28) -> 151 | AE28: =SUM(E15:E28) -> 218.3
C29: 43665 | D29: 24 | E29: 4 | F29: 356.7 | H29: =F29/D29 -> 14.8625 | I29: Too Fresh to Hike | J29: y | K29: n | L29: =IF(E29=0,"y","") | M29: =IF(L28="y",E29,M28+E29) -> 4 | N29: =IF(L28="y",1,N28+1) -> 1 | O29: =IF(L29<>"y", IF(E29<10,"y",""),"") -> y | P29: =IF(O28="y",E29,P28+E29) -> 4 | Q29: =IF(O28="y",1,Q28+1) -> 1 | S29: =IF(R28="y",$E29,S28+$E29) -> 356.7 | T29: =IF(R28="y",1,T28+1) -> 26 | V29: =IF(U28="y",$E29,V28+$E29) -> 4 | W29: =IF(U28="y",1,W28+1) -> 2 | Y29: =IF(X28="y",$E29,Y28+$E29) -> 4 | Z29: =IF(X28="y",1,Z28+1) -> 1 | AA29: =SUM(E27:E29) -> 12.5 | AB29: =SUM(E25:E29) -> 54.6 | AC29: =SUM(E23:E29) -> 90.7 | AD29: =SUM(E20:E29) -> 136.7 | AE29: =SUM(E16:E29) -> 205.3
A30: Week 4 | C30: 43666 | D30: 25 | E30: 21 | F30: 377.7 | H30: =F30/D30 -> 15.108 | I30: Kismet Spring | J30: y | K30: n | L30: =IF(E30=0,"y","") | M30: =IF(L29="y",E30,M29+E30) -> 25 | N30: =IF(L29="y",1,N29+1) -> 2 | O30: =IF(L30<>"y", IF(E30<10,"y",""),"") | P30: =IF(O29="y",E30,P29+E30) -> 21 | Q30: =IF(O29="y",1,Q29+1) -> 1 | S30: =IF(R29="y",$E30,S29+$E30) -> 377.7 | T30: =IF(R29="y",1,T29+1) -> 27 | V30: =IF(U29="y",$E30,V29+$E30) -> 25 | W30: =IF(U29="y",1,W29+1) -> 3 | Y30: =IF(X29="y",$E30,Y29+$E30) -> 25 | Z30: =IF(X29="y",1,Z29+1) -> 2 | AA30: =SUM(E28:E30) -> 25 | AB30: =SUM(E26:E30) -> 54.5 | AC30: =SUM(E24:E30) -> 93.7 | AD30: =SUM(E21:E30) -> 148.3 | AE30: =SUM(E17:E30) -> 210.8
C31: 43667 | D31: 26 | E31: 21 | F31: 398.7 | H31: =F31/D31 -> 15.334615 | I31: Afternoon | J31: y | K31: n | L31: =IF(E31=0,"y","") | M31: =IF(L30="y",E31,M30+E31) -> 46 | N31: =IF(L30="y",1,N30+1) -> 3 | O31: =IF(L31<>"y", IF(E31<10,"y",""),"") | P31: =IF(O30="y",E31,P30+E31) -> 42 | Q31: =IF(O30="y",1,Q30+1) -> 2 | S31: =IF(R30="y",$E31,S30+$E31) -> 398.7 | T31: =IF(R30="y",1,T30+1) -> 28 | V31: =IF(U30="y",$E31,V30+$E31) -> 46 | W31: =IF(U30="y",1,W30+1) -> 4 | Y31: =IF(X30="y",$E31,Y30+$E31) -> 46 | Z31: =IF(X30="y",1,Z30+1) -> 3 | AA31: =SUM(E29:E31) -> 46 | AB31: =SUM(E27:E31) -> 54.5 | AC31: =SUM(E25:E31) -> 96.6 | AD31: =SUM(E22:E31) -> 150.5 | AE31: =SUM(E18:E31) -> 214.3 | AF31: =SUM(E4:E31) -> 398.7
C32: 43668 | D32: 27 | E32: 17.5 | F32: 416.2 | H32: =F32/D32 -> 15.414815 | I32: A Juniper Bush Short of a Sandwich | J32: y | K32: n | L32: =IF(E32=0,"y","") | M32: =IF(L31="y",E32,M31+E32) -> 63.5 | N32: =IF(L31="y",1,N31+1) -> 4 | O32: =IF(L32<>"y", IF(E32<10,"y",""),"") | P32: =IF(O31="y",E32,P31+E32) -> 59.5 | Q32: =IF(O31="y",1,Q31+1) -> 3 | S32: =IF(R31="y",$E32,S31+$E32) -> 416.2 | T32: =IF(R31="y",1,T31+1) -> 29 | V32: =IF(U31="y",$E32,V31+$E32) -> 63.5 | W32: =IF(U31="y",1,W31+1) -> 5 | Y32: =IF(X31="y",$E32,Y31+$E32) -> 63.5 | Z32: =IF(X31="y",1,Z31+1) -> 4 | AA32: =SUM(E30:E32) -> 59.5 | AB32: =SUM(E28:E32) -> 63.5 | AC32: =SUM(E26:E32) -> 93 | AD32: =SUM(E23:E32) -> 150.2 | AE32: =SUM(E19:E32) -> 214.5 | AF32: =SUM(E5:E32) -> 402.7
B33: Anaconda | C33: 43669 | D33: 28 | E33: 15 | F33: 431.2 | H33: =F33/D33 -> 15.4 | I33: Scooch Closer 2.0 | J33: n | K33: n | L33: =IF(E33=0,"y","") | M33: =IF(L32="y",E33,M32+E33) -> 78.5 | N33: =IF(L32="y",1,N32+1) -> 5 | O33: =IF(L33<>"y", IF(E33<10,"y",""),"") | P33: =IF(O32="y",E33,P32+E33) -> 74.5 | Q33: =IF(O32="y",1,Q32+1) -> 4 | S33: =IF(R32="y",$E33,S32+$E33) -> 431.2 | T33: =IF(R32="y",1,T32+1) -> 30 | V33: =IF(U32="y",$E33,V32+$E33) -> 78.5 | W33: =IF(U32="y",1,W32+1) -> 6 | X33: y | Y33: =IF(X32="y",$E33,Y32+$E33) -> 78.5 | Z33: =IF(X32="y",1,Z32+1) -> 5 | AA33: =SUM(E31:E33) -> 53.5 | AB33: =SUM(E29:E33) -> 78.5 | AC33: =SUM(E27:E33) -> 87 | AD33: =SUM(E24:E33) -> 147.2 | AE33: =SUM(E20:E33) -> 211.2 | AF33: =SUM(E6:E33) -> 416.7
C34: 43670 | D34: 29 | E34: 25 | F34: 456.2 | H34: =F34/D34 -> 15.731034 | I34: Naked 'Schwhack Alpenglow | J34: y | K34: n | L34: =IF(E34=0,"y","") | M34: =IF(L33="y",E34,M33+E34) -> 103.5 | N34: =IF(L33="y",1,N33+1) -> 6 | O34: =IF(L34<>"y", IF(E34<10,"y",""),"") | P34: =IF(O33="y",E34,P33+E34) -> 99.5 | Q34: =IF(O33="y",1,Q33+1) -> 5 | S34: =IF(R33="y",$E34,S33+$E34) -> 456.2 | T34: =IF(R33="y",1,T33+1) -> 31 | V34: =IF(U33="y",$E34,V33+$E34) -> 103.5 | W34: =IF(U33="y",1,W33+1) -> 7 | Y34: =IF(X33="y",$E34,Y33+$E34) -> 25 | Z34: =IF(X33="y",1,Z33+1) -> 1 | AA34: =SUM(E32:E34) -> 57.5 | AB34: =SUM(E30:E34) -> 99.5 | AC34: =SUM(E28:E34) -> 103.5 | AD34: =SUM(E25:E34) -> 154.1 | AE34: =SUM(E21:E34) -> 226.8 | AF34: =SUM(E7:E34) -> 433.7
C35: 43671 | D35: 30 | E35: 24 | F35: 480.2 | H35: =F35/D35 -> 16.006667 | I35: First Nobo | J35: y | K35: n | L35: =IF(E35=0,"y","") | M35: =IF(L34="y",E35,M34+E35) -> 127.5 | N35: =IF(L34="y",1,N34+1) -> 7 | O35: =IF(L35<>"y", IF(E35<10,"y",""),"") | P35: =IF(O34="y",E35,P34+E35) -> 123.5 | Q35: =IF(O34="y",1,Q34+1) -> 6 | S35: =IF(R34="y",$E35,S34+$E35) -> 480.2 | T35: =IF(R34="y",1,T34+1) -> 32 | V35: =IF(U34="y",$E35,V34+$E35) -> 127.5 | W35: =IF(U34="y",1,W34+1) -> 8 | Y35: =IF(X34="y",$E35,Y34+$E35) -> 49 | Z35: =IF(X34="y",1,Z34+1) -> 2 | AA35: =SUM(E33:E35) -> 64 | AB35: =SUM(E31:E35) -> 102.5 | AC35: =SUM(E29:E35) -> 127.5 | AD35: =SUM(E26:E35) -> 157 | AE35: =SUM(E22:E35) -> 232 | AF35: =SUM(E8:E35) -> 443.3
C36: 43672 | D36: 31 | E36: 16 | F36: 496.2 | H36: =F36/D36 -> 16.006452 | I36: SpiceRack is my Hero | J36: y | K36: n | L36: =IF(E36=0,"y","") | M36: =IF(L35="y",E36,M35+E36) -> 143.5 | N36: =IF(L35="y",1,N35+1) -> 8 | O36: =IF(L36<>"y", IF(E36<10,"y",""),"") | P36: =IF(O35="y",E36,P35+E36) -> 139.5 | Q36: =IF(O35="y",1,Q35+1) -> 7 | S36: =IF(R35="y",$E36,S35+$E36) -> 496.2 | T36: =IF(R35="y",1,T35+1) -> 33 | V36: =IF(U35="y",$E36,V35+$E36) -> 143.5 | W36: =IF(U35="y",1,W35+1) -> 9 | Y36: =IF(X35="y",$E36,Y35+$E36) -> 65 | Z36: =IF(X35="y",1,Z35+1) -> 3 | AA36: =SUM(E34:E36) -> 65 | AB36: =SUM(E32:E36) -> 97.5 | AC36: =SUM(E30:E36) -> 139.5 | AD36: =SUM(E27:E36) -> 152 | AE36: =SUM(E23:E36) -> 230.2 | AF36: =SUM(E9:E36) -> 436.1
A37: Week 5 | C37: 43673 | D37: 32 | E37: 30 | F37: 526.2 | H37: =F37/D37 -> 16.44375 | I37: Surprise 30 | J37: y | K37: n | L37: =IF(E37=0,"y","") | M37: =IF(L36="y",E37,M36+E37) -> 173.5 | N37: =IF(L36="y",1,N36+1) -> 9 | O37: =IF(L37<>"y", IF(E37<10,"y",""),"") | P37: =IF(O36="y",E37,P36+E37) -> 169.5 | Q37: =IF(O36="y",1,Q36+1) -> 8 | S37: =IF(R36="y",$E37,S36+$E37) -> 526.2 | T37: =IF(R36="y",1,T36+1) -> 34 | V37: =IF(U36="y",$E37,V36+$E37) -> 173.5 | W37: =IF(U36="y",1,W36+1) -> 10 | Y37: =IF(X36="y",$E37,Y36+$E37) -> 95 | Z37: =IF(X36="y",1,Z36+1) -> 4 | AA37: =SUM(E35:E37) -> 70 | AB37: =SUM(E33:E37) -> 110 | AC37: =SUM(E31:E37) -> 148.5 | AD37: =SUM(E28:E37) -> 173.5 | AE37: =SUM(E24:E37) -> 242.2 | AF37: =SUM(E10:E37) -> 451.5
A38: Montana/Idaho | B38: Darby | C38: 43674 | D38: 33 | E38: 2.6 | F38: 528.8 | H38: =F38/D38 -> 16.024242 | I38: Curtis's House | J38: n | K38: y | L38: =IF(E38=0,"y","") | M38: =IF(L37="y",E38,M37+E38) -> 176.1 | N38: =IF(L37="y",1,N37+1) -> 10 | O38: =IF(L38<>"y", IF(E38<10,"y",""),"") -> y | P38: =IF(O37="y",E38,P37+E38) -> 172.1 | Q38: =IF(O37="y",1,Q37+1) -> 9 | S38: =IF(R37="y",$E38,S37+$E38) -> 528.8 | T38: =IF(R37="y",1,T37+1) -> 35 | U38: y | V38: =IF(U37="y",$E38,V37+$E38) -> 176.1 | W38: =IF(U37="y",1,W37+1) -> 11 | X38: y | Y38: =IF(X37="y",$E38,Y37+$E38) -> 97.6 | Z38: =IF(X37="y",1,Z37+1) -> 5 | AA38: =SUM(E36:E38) -> 48.6 | AB38: =SUM(E34:E38) -> 97.6 | AC38: =SUM(E32:E38) -> 130.1 | AD38: =SUM(E29:E38) -> 176.1 | AE38: =SUM(E25:E38) -> 226.7 | AF38: =SUM(E11:E38) -> 435.6
C39: 43675 | D39: 34 | E39: 6.5 | F39: 535.3 | H39: =F39/D39 -> 15.744118 | I39: Where'd the Rain Come From | J39: y | K39: n | L39: =IF(E39=0,"y","") | M39: =IF(L38="y",E39,M38+E39) -> 182.6 | N39: =IF(L38="y",1,N38+1) -> 11 | O39: =IF(L39<>"y", IF(E39<10,"y",""),"") -> y | P39: =IF(O38="y",E39,P38+E39) -> 6.5 | Q39: =IF(O38="y",1,Q38+1) -> 1 | S39: =IF(R38="y",$E39,S38+$E39) -> 535.3 | T39: =IF(R38="y",1,T38+1) -> 36 | V39: =IF(U38="y",$E39,V38+$E39) -> 6.5 | W39: =IF(U38="y",1,W38+1) -> 1 | Y39: =IF(X38="y",$E39,Y38+$E39) -> 6.5 | Z39: =IF(X38="y",1,Z38+1) -> 1 | AA39: =SUM(E37:E39) -> 39.1 | AB39: =SUM(E35:E39) -> 79.1 | AC39: =SUM(E33:E39) -> 119.1 | AD39: =SUM(E30:E39) -> 178.6 | AE39: =SUM(E26:E39) -> 212.1 | AF39: =SUM(E12:E39) -> 434.9
C40: 43676 | D40: 35 | E40: 21.6 | F40: 556.9 | H40: =F40/D40 -> 15.911429 | I40: Too Dark To Name | J40: y | K40: n | L40: =IF(E40=0,"y","") | M40: =IF(L39="y",E40,M39+E40) -> 204.2 | N40: =IF(L39="y",1,N39+1) -> 12 | O40: =IF(L40<>"y", IF(E40<10,"y",""),"") | P40: =IF(O39="y",E40,P39+E40) -> 21.6 | Q40: =IF(O39="y",1,Q39+1) -> 1 | S40: =IF(R39="y",$E40,S39+$E40) -> 556.9 | T40: =IF(R39="y",1,T39+1) -> 37 | V40: =IF(U39="y",$E40,V39+$E40) -> 28.1 | W40: =IF(U39="y",1,W39+1) -> 2 | Y40: =IF(X39="y",$E40,Y39+$E40) -> 28.1 | Z40: =IF(X39="y",1,Z39+1) -> 2 | AA40: =SUM(E38:E40) -> 30.7 | AB40: =SUM(E36:E40) -> 76.7 | AC40: =SUM(E34:E40) -> 125.7 | AD40: =SUM(E31:E40) -> 179.2 | AE40: =SUM(E27:E40) -> 212.7 | AF40: =SUM(E13:E40) -> 445
...

Sheet Resupply Options
A1: Name | B1: Access Point | C1: Mile Point (NoBo) | D1: Mile Point (SoBo) | E1: Miles from Trail | F1: Resupply | G1: Post Office Address | H1: Post Office Hours | I1: Fuel Canister | J1: Outfitter/Supplies | K1: Hiker Deals/Discounts | L1: Other Info
A2: Mexico! | B2: Crazy Cook | C2: 0 | D2: 3050.7 | L2: NoBos- have fun!! SoBos- congrats, you made it!
A3: Hachita, NM | B3: Highway 81 | C3: 45.6 | D3: 3005.1 | E3: 8 | F3: C-store. Hachita Food Mart. | G3: 26 B St, Hachita, NM 88040 | H3: M-F 9:30-12 & 12:30-4; Sat 9-12; Closed Sunday.
A4: Lordsburg, NM | B4: on trail | C4: 85.6 | D4: 2965.1 | E4: 0 | F4: Full. Saucedo's Super Market, Dollar General. | G4: 401 Shakespeare St., Lordsburg, NM 88045 | H4: M-F 8:30-5; Sat 10-12; Closed Sunday. | I4: CDTC shuttle (seasonal) | K4: Econolodge: hiker rate, hiker box. | L4: Trail Register at KOA & Econolodge
A5: Silver City | B5: on trail | C5: 161.8 | D5: 2888.9 | E5: 0 | F5: Full. Albertsons, Wal-Mart, Silver City Food Co-Op. | G5: 500 N Hudson St., Silver City, NM 88061 | H5: M-F 8:30-5; Sat 10-12; Closed Sunday. | I5: Gila Hike & Bike | J5: Gila Hike & Bike, 103 E College Ave; Morning Star, 809 N Bullard St. | L5: Trail register at Morning Star.
A6: Doc Campbell's Post (ALT) | B6: on Gila River alt | C6: Alt mile 37.9 of 105 | D6: Alt mile 67.1 of 105 | E6: 0 | F6: Limited, expensive. Send resupply box 2 weeks before ETA. Include ETA on box. USPS only. $3 fee. | G6: Your name (CDT Hiker), C/O Doc Campbell’s Post 3796 Highway 15, Mimbres, NM 88049 | H6: 9am - 6pm every day. | I6: Yes- supply may be limited. | J6: Some basic camping supplies/freeze-dried meals | L6: Laundry and showers available. No ATM on premises- make sure you have cash.
A7: Winston, NM | B7: Highway 59 | C7: 266.3 | D7: 2784.4 | E7: 24 | F7: Limited. Winston General Store. | G7: 451 Grafton Rd., Winston, NM 87943 | H7: M-F 9:30-12:30 & 1-4; Sat 9-11; Closed Sunday | L7: Tough hitch. General Store has sandwiches, soups, etc. No lodging or restaurant in town.
A8: Reserve, NM | B8: NM 12 | C8: 374.8 | D8: 2675.9 | E8: 25 mi West | F8: Full. Jake's General Merchandise. | G8: 10 Balke St., Reserve, NM 87830 | H8: M-F 8:30-12 & 12:30-5; Sat 9:30-11:30; Closed Sunday | L8: Tough hitch.
A9: Top of the World store, NM | B9: on trail (official route) or from Pie Town (alt) | C9: 420.9 | D9: 2629.8 | E9: 0 (official route) or 3 mi West (Alt) | F9: C-store. Accepts packages, UPS or FedEx only. | G9: Hiker Name, c/o Top of the World, Highway 60, Mile Marker 52, Pie Town, NM 87827 | I9: Yes | L9: Laundry available.
A10: Quemado, NM | B10: Hwy 60 | C10: 411.2 | D10: 2639.5 | E10: 25 mi West | F10: Full. Country Store. | G10: 3476 W Hwy 60, Quemado, NM 87829 | H10: M-F 8-12:30 & 1-4:30; Sat 8-10:30; Closed Sunday
A11: Pie Town, NM | B11: on trail | C11: 423.9 | D11: 2626.8 | E11: 0 | F11: The Toaster House will hold resupply boxes. UPS ONLY. Hiker Name, c/o The Toaster House, Hwy 60 at Mile Marker 56, Pie Town, NM 87827 | G11: 17 Frontage Rd., Pie Town, NM 87827 | H11: M-F 8-12; Sat 7:30-9:30; Closed Sunday | I11: Top of the World market | K11: 10% hiker discount at the Pie-O-Neer. | L11: If you stay at the Toaster House, please clean up after yourself and leave a donation if you are able! Trail register @ Toaster House.
A12: Grants, NM | B12: on trail | C12: 553.5 | D12: 2497.2 | E12: 0 | F12: Full. Wal-Mart, Smith's. | G12: 816 W Santa Fe Ave, Grants, NM 87020 | H12: M-F 8:30-5; Sat 8:30-12; Closed Sunday | I12: Wal-Mart | K12: 10% discount to CDTC members at the Super 8 | L12: Carrot Express Bus - 50 cents/ride, anywhere in town, M-F. Call 505-290-2469
A13: Cuba, NM | B13: on trail | C13: 660.2 | D13: 2390.5 | E13: 0 | F13: Full. Mickey Save-way, Family Dollar. | G13: 6358 Main St., Cuba, NM 87013 | H13: M-F 8-4:30; Sat 10-11:30; Closed Sunday | I13: Mickey Save-way | K13: Rebel's Roost Campground: 1/4 mi N of town, hiker rate, will hold resupply boxes.
A14: Ghost Ranch, NM | B14: Hwy 84 | C14: 716.8 | D14: 2333.2 | E14: 8 mi | F14: Pricey snacks only. Please send resupply boxes via UPS, label "CDT Hiker" & include ETA. | G14: Hiker Name, c/o Ghost Ranch, 280 Private Drive 1708, Abiquiu, NM 87510 | I14: No | L14: Please be respectful of the rules/regulations around meals & number of hikers allowed in a room. Showers, coin-op laundry, hiker box, trail register, wifi. Bus to Abiquiu, Santa Fe.
A15: Ghost Ranch, NM (ALT) | B15: on trail | C15: Alt mile 11 of 25.5 | D15: Alt mile 14.5 of 25.5 | E15: on-trail | F15: Pricey snacks only. Please send resupply boxes via UPS, label "CDT Hiker" & include ETA. | G15: Hiker Name, c/o Ghost Ranch, 280 Private Drive 1708, Abiquiu, NM 87510 | I15: No | L15: Please be respectful of the rules/regulations around meals & number of hikers allowed in a room. Showers, coin-op laundry, hiker box, trail register, wifi. Bus to Abiquiu, Santa Fe.
A16: Abiquiu, NM | B16: Hwy 84 | C16: 716.8 | D16: 233.2 | F16: Good C-store. Bode's General Store. | G16: 4 County Rd. 187, Abiquiu, NM 87510 | H16: M-F 7-12 & 1-4; Closed weekends | J16: Some: hunting/fishing/car camping-oriented | L16: Breakfast burritos and green chile cheeseburgers. RTD bus to Ghost Ranch, Santa Fe.
A17: Santa Fe, NM | B17: Hwy 84 | C17: 716.8 | D17: 233.2 | F17: Full. Albertsons, TJs, Whole Foods, etc. etc. | G17: 120 S Federal Pl. Ste 101, Santa Fe, NM 87501 | H17: M-F 8-5:30; Sat 9-4; Closed Sunday | I17: REI, Big 5 | J17: REI, 500 Market St. #100; Big 5 Sporting Goods, 2860 Cerrillos Rd. | L17: RTD Bus to/from Ghost Ranch. Santa Fe International Hostel. Easy access to/from Albuquerque.
A18: Chama, NM | B18: Cumbres Pass | C18: 811.7 | D18: 2239 | E18: 8 mi West | F18: Full. Lowe's Supermarket., Family Dollar. | G18: 199 5th St. West, Chama, NM 87520 | H18: M-F 8-1 & 2-5; Sat 10-12; Closed Sunday | I18: Lowes | J18: Some camping supplies at Lowes | K18: Y Motel: hiker rate, hiker box. | L18: Laundry at RV park. NoBos: snow gear!
A19: Pagosa Springs, CO | B19: Wolf Creek Pass | C19: 880.9 | D19: 2169.8 | E19: 25 mi West | F19: Full. City Market, Wal-Mart, Old Town Natural Market and Deli. | G19: 250 Hot Springs Blvd, Pagosa Springs, CO 81147 | H19: M-F 7:30-5; Sat 9-2; Closed Sunday | I19: Ski & Bow Rack | J19: Ski & Bow Rack, 354 E Pagosa St; The Outfitter, 21 Pike Dr; Foot Prints, 458 Pagosa St., Re-Sport (used), 100 County Center Dr. | K19: Pinewood Inn: hiker rate. | L19: Motel SOCO will hold boxes, PO Box 5752, Pagosa Springs, CO 81147
A20: South Fork, CO | B20: Wolf Creek Pass | C20: 880.9 | D20: 2169.8 | E20: 20 mi East | F20: Full. Rainbow Grocery. | G20: 130 W Frontage Rd., South Fork, CO 81154 | H20: M-F 9-4; Sat 9-10; Closed Sunday | I20: Rainbow Grocery | J20: Rainbow Sporting Goods, 30359 US 160; Doc's Outdoor Sports, 31101 US 160 | K20: hiker bicycles available at RV park, Wolf Creek ski lodge
A21: Silverton, CO via CT | B21: Colorado Trail/Molas Pass | C21: 959.2 | D21: 2091.5 | E21: 11 mi on CT plus 7 mi hitch | F21: Full. Silverton Grocery. Blair Street Hostel will also hold boxes for guests. Blair Street Hostel, In Care Of: Hiker Name, PO Box 916, Silverton, CO 81433. | G21: 138 W 12th St., Silverton, CO 81433 | H21: M-F 9-1 & 1:30-3:30; Sat 11-1; Closed Sunday | I21: Outdoor World | J21: Outdoor World, 1234 Greene St. | L21: Blair Street Hostel will provide shuttles to Molas Pass TH (Colorado Trail- $5 fee) and Stoney Pass Bottom ($20 fee) for guests.
A22: Silverton, CO via Stoney Pass | B22: Stoney Pass | C22: 965.5 | D22: 2085.2 | E22: 10 mi | F22: Full. Silverton Grocery. Blair Street Hostel will also hold boxes for guests. Blair Street Hostel, In Care Of: Hiker Name, PO Box 916, Silverton, CO 81433. | G22: 138 W 12th St., Silverton, CO 81400 | H22: M-F 9-1 & 1:30-3:30; Sa 11-1; Closed Sunday | I22: Outdoor World | J22: Outdoor World, 1234 Greene St. | L22: Blair Street Hostel will provide shuttles to Molas Pass TH (Colorado Trail- $5 fee) and Stoney Pass Bottom ($20 fee) for guests.
A23: Lake City, CO | B23: Spring Creek Pass | C23: 998.9 | D23: 2051.8 | E23: 18 | F23: Full. High Country Market, 130 Gunnison Ave. | G23: 803 Gunnison Ave, Lake City, CO 81235 | H23: M-F 8:30-11:30 & 12-4:30; Sat 11-1; Closed Sunday | I23: High Country Market; The Sportsman | J23: The Sportsman, 238 S. Gunnison | K23: Raven's Rest Hostel, $25 bunks | L23: Raven's Rest accepts resupply packages, UPS OR FEDEX ONLY, Hiker Name, c/o Raven's Rest Hostel, 207 Gunnison Ave, Lake City, CO 81235
A24: Creede, CO | B24: Spring Creek Pass | C24: 998.9 | D24: 2051.8 | E24: 33 | F24: Full. Kentucky Belle Market. | G24: 10 S. Main St., Creede, CO 81130 | H24: M-F 9-1 & 1:30-4; Sat 10-11:30; Closed Sunday | I24: San Juan Sports | J24: San Juan Sports, 102 S. Main St.
A25: Creede, CO (ALT) | B25: on Creede Cut-off Alt | C25: Alt mi 27.4 of 37.5 | D25: Alt mi 10.1 of 37.5 | F25: Full. Kentucky Belle Market. | G25: 10 S. Main St, Creede, CO 81130 | H25: M-F 9-1 & 1:30-4; Sat 10-11:30; Closed Sunday | I25: San Juan Sports | J25: San Juan Sports, 102 S. Main St.
A26: Monarch Crest Store | B26: Monarch Pass | C26: 1099.6 | D26: 1951.1 | E26: 0 | F26: Limited. Will hold resupply packages - UPS ONLY. Please label with ETA and "CDT Hiker" | G26: Hiker Name, c/o Monarch Crest Store, 24500 Hwy 50W, Salida, CO 81201 | H26: 8am-6pm
A27: Monarch Mountain Lodge | B27: Monarch Pass | C27: 1099.6 | D27: 1951.1 | E27: 2 | F27: None. Send box. | G27: Hiker Name, c/o Monarch Mountain Lodge, 22720 W US Hwy 50, Salida, CO 81201 | I27: No | K27: Will hold resupply packages, hikers can camp on property, has pool/hot tub/laundry
A28: Salida | B28: Monarch Pass | C28: 1099.6 | D28: 1951.1 | E28: 20 mi | F28: Full. Safeway, Simple Foods (health food), Wal-Mart. | G28: 310 D St., Salida, CO 81201 | H28: M-F 7:30-5; Sat 8:30-12; Closed Sunday | I28: Salida Mountain Sports | J28: Salida Mountain Sports, 111 North F St | L28: Trail register at Simple Lodge & Hostel.
A29: Buena Vista | B29: Cottonwood Pass | C29: 1142.1 | D29: 1907.9 | E29: 24 mi East | F29: Full. City Market. | G29: 110 Brookdale Ave, Buena Vista, CO 81211 | H29: M-F 8-5; Sat 9:30-12; Closed Sunday | I29: The Trailhead | J29: The Trailhead, 402 E Main St | L29: West side of Cottonwood Pass closed to motor vehicles in 2017. East side will be closed in 2018.
A30: Twin Lakes General Store | B30: Hwy 82 | C30: 1184 | D30: 1866.7 | E30: 1.5 mi | F30: Good c-store selection, caters to hikers! Slightly more expensive than grocery store but can do full resupply. Store will hold resupply packages. DO NOT send General Delivery- there is no longer a post office here. | G30: Twin Lakes General Store, ATTN: Hiker Name, 6451 E Hwy 82, Twin Lakes, CO 81251. Please hold for CDT Hiker, ETA mm/dd. | H30: 9am-6pm | I30: Yes | J30: Some gear, Mountain House meals, fuel. | K30: Super hiker friendly! | L30: Hiker box, trail register at store.
A31: Leadville | B31: Tennessee Pass | C31: 1218 | D31: 1832.7 | E31: 9 mi South | F31: Full. Safeway | G31: 130 W 5th St., Leadville, CO 80461 | H31: M-F 9-5; Sat 9-12; Closed Sunday | I31: Leadville Outdoors | J31: Leadville Outdoors, 225 Harrison Ave; Melanzana Outdoor Clothing, 716 Harrison Ave | L31: Leadville Hostel will hold packages, has coin-op laundry, loaner bikes. Packages: Leadville Hostel & Inn, 500 East 7th St., Leadville, CO 80461, Attn: “Your Name”, arriving around “month date, year”
A32: Breckenridge | B32: Hwy 9 | C32: 1255.8 | D32: 1794.9 | E32: 3.5 mi South | F32: Full. City Market | G32: 305 S Ridge St., Breckenridge, CO 80424 | H32: M-F 8-5; Sat 10-1; Closed Sunday | I32: Mountain Outfitters | J32: Mountain Outfitters, 112 S Ridge St. (Many other shops in Breck sell clothing, footwear, etc.). REI in Dillon. | L32: Free Summit Stage bus to town. Two hostels (both with hot tub!): Fireside Inn and The Bivvi. Trail register at Fireside Inn.
A33: Frisco | B33: Hwy 9 | C33: 1255.8 | D33: 1794.9 | E33: 4.5 mi north | F33: Full. Whole Foods, Safeway, Wal-Mart. | G33: 35 W Main St., Frisco, CO 80443 | H33: M-F 8:30-5; Sat 9-12:30; Closed Sunday | I33: Wal-Mart or outfitters in other towns | J33: Lots of ski/bike stores; Mountain Outfitters in Breckenridge; Mountain Sports Outlet in Silverthorne; Wilderness Sports or REI in Dillon | L33: Free Summit Stage bus to town.
A34: Frisco (via ALT) | C34: alt mi 22 of 42.5 | D34: alt mi 20.5 of 42.5 | F34: Full. Whole Foods, Safeway, Wal-Mart. | G34: 35 W Main St., Frisco, CO 80443 | H34: M-F 8:30-5; Sat 9-12:30; Closed Sunday | I34: Wal-Mart or outfitters in other towns | J34: Lots of ski/bike stores; Mountain Outfitters in Breckenridge; Mountain Sports Outlet in Silverthorne; Wilderness Sports and REI in Dillon | L34: Free Summit Stage bus
A35: Silverthorne (via ALT) | B35: on trail | C35: alt mi 22 of 42.5 | D35: alt mi 20.5 of 42.5 | E35: 0 | F35: Full. City Market, Olive Fusion (natural foods) | G35: 518 Brian Ave, Silverthorne, CO 80497 | H35: M-F 9-5; Sat 10-12; Closed Sunday | I35: Wilderness Sports, REI in Dillon | J35: Mountain Sports Outlet, 167 Meraly Way; Wilderness Sports, 701 E Anemone Trail, Dillon; REI, 306 Dillon Ridge Rd, Dillon | L35: Free Summit Stage bus
A36: Winter Park | B36: Berthoud Pass | C36: 1331.3 | D36: 1719.4 | E36: 12 mi | F36: Limited. Stop & Save gas station; Trail's End Mercantile. Safeway down the road in Fraser. | G36: 78490 US Hwy 40, Winter Park, CO 80482 | H36: M-F 8-5; Sat 9-12; Closed Sunday | I36: Icebox Mountain Sports, Fraser | J36: Epic Mountain Sports, 78941 US-40 (clothing & footwear)
A37: Fraser, CO | B37: Berthoud Pass | C37: 1331.3 | D37: 1719.4 | E37: 16 mi | F37: Full. Safeway. | G37: 520 Zerex, Fraser, CO 80442 | H37: M-F 8-5; Sat 10-12; Closed Sunday | I37: Icebox Mountain Sports | J37: Icebox Mountain Sports, 505 Zerex St (sleeping bags, packs, tents, stoves, etc) | L37: Cheaper lodging than Winter Park.
A38: Grand Lake, CO | B38: on trail | C38: 1386.9 | D38: 1663.8 | E38: 0 | F38: Full. Mountain Food Market, Circle 3 World Foods. | G38: 520 Center Dr., Grand Lake, CO 80447 | H38: M-F 8-4; Closed Saturday & Sunday | I38: Never Summer Mountain Products | J38: Never Summer Mountain Products, 919 Grand Avenue | K38: Shadowcliff Lodge no longer accepts hiker resupply boxes. | L38: RMNP info: the Park loop is ~25mi and can be done in a day. Backcountry permits are $26/person/night. Bear canister required. More info & to book permits: https://www.nps.gov/romo/planyourvisit/wilderness-camping.htm
A39: Steamboat Springs | B39: Rabbit Ears Pass | C39: 1485 | D39: 1565.7 | E39: 20 mi West | F39: Full. Safeway, Wal-Mart. | G39: 200 Lincoln Ave, Steamboat Springs, CO 80487 | H39: M-F 8:30-5; Sat 9-12; Closed Sunday | I39: Ski Haus | J39: Ski Haus, 1457 Pine Grove Rd.; Big Agnes, 735 Oak St.; Point6, 1120 S Lincoln Ave, Unit F | K39: Contact Big Agnes for gear repair (877-554-8975). Contact Point6 for sock replacements (970-871-1055). 15% discount at Ski Haus if you tell them you are a CDT hiker. | L39: Free bus in town.
A40: Encampment/Riverside, WY | B40: Battle Pass | C40: 1569.2 | D40: 1481.5 | E40: 15 mi East | F40: Limited. | G40: 622 McCaffrey Ave, Encampment, WY 82325 | H40: M-F 8:30-12:30 & 1:30-4; Sat 8:30-9; Closed Sunday | I40: Riverside Garage | J40: Trading Post, 210 WY-70, Encampment | L40: Trail register at KOA
...

Sheet Resupply Strategy
B2: Place | C2: % hikers who resupplied | D2: Mile | E2: Resupply? | F2: Mail or Buy | G2: Miles since last resupply | H2: True miles considering alternates | I2: box # | J2: # boxes | K2: Miles since box | L2: Box miles | M2: Pace (mpd) | N2: Days food | O2: Days food rounded | P2: Next stop | Q2: Full days of food | R2: Staple day of food | S2: Send town food? | T2: Fuel? | U2: Mail Box Resupply | V2: Route Choice Questions
A3: New Mexico | B3: Lordsburg | C3: 99 | D3: 85.6 | E3: y | F3: b | G3: =D6-D3 -> 76.2 | P3: to Mexico!
B4: Columbus | C4: 1
B5: Deming | C5: 3
B6: Silver City | C6: 97 | D6: 161.8 | E6: y | F6: b | G6: 60.5 | P6: to Lordsburg
B7: Doc Campbell's | C7: 97 | D7: =D8-90 -> 284.8 | E7: y | F7: m | G7: =D9-D7 -> 139.1 | H7: 200 | I7: #10 | J7: 2 | K7: =H9-H7 -> 223 | L7: =G6 -> 60.5 | M7: 22 | N7: =L7/M7 -> 2.75 | O7: 3 | P7: to Silver City | Q7: =IF(J7=2, O7, 0) -> 3 | R7: =IF(Q7=0,O7,0) -> 0 | S7: n | T7: y: town store
B8: Reserve | C8: 14 | D8: 374.8 | U8: pie to reserve = 49ish miles
B9: Pie Town | C9: 100 | D9: 423.9 | E9: y | F9: m | G9: =D11-D9 -> 129.6 | H9: 423 | I9: #9 | J9: 2 | K9: =H14-H9 -> 293 | L9: =G7 -> 139.1 | M9: 22 | N9: =L9/M9 -> 6.3227273 | O9: 6.5 | P9: to Doc's | Q9: =IF(J9=2, O9, 0) -> 6.5 | R9: =IF(Q9=0,O9,0) -> 0 | S9: n | T9: n | U9: reserve to doc = 90 miles on Gila alternate
B10: Quemado | C10: 1 | D10: 411.2 | U10: pie to doc = 140ish combined without resupply in Reserve
B11: Grants | C11: 99 | D11: 553.5 | E11: y | F11: b | G11: =D12-D11 -> 106.7 | P11: to Pie Town
B12: Cuba | C12: 96 | D12: 660.2 | E12: y | F12: b | G12: =D14-D12 -> 56.4 | P12: to Grants
B13: Santa Fe | C13: 6 | D13: 716.8
B14: Ghost Ranch | C14: 85 | D14: =D16-95.1 -> 716.6 | E14: y | F14: m | G14: =D16-D14 -> 95.1 | H14: 716 | I14: #8 | J14: 2 | K14: =H18-H14 -> 164.9 | L14: =G12 -> 56.4 | M14: 20 | N14: =L14/M14 -> 2.82 | O14: 3 | P14: to Cuba | Q14: =IF(J14=2, O14, 0) -> 3 | R14: =IF(Q14=0,O14,0) -> 0 | S14: y | T14: n
B15: Taos | C15: 4
B16: Chama(Cumbre Pass) | C16: 97 | D16: 811.7 | E16: y | F16: b | G16: =D18-D16 -> 69.2 | P16: to Ghost Ranch
A18: Colorado | B18: Pagosa Springs(Wolf Creek) | C18: 85 | D18: 880.9 | E18: y | F18: m | G18: =D25-D18 -> 118 | H18: 880.9 | I18: #7.5 | J18: maps | K18: =H29-H18 -> 281.1 | P18: to Chama | Q18: =IF(J18=2, O18, 0) -> 0 | R18: =IF(Q18=0,O18,0) -> 0
B19: South Fork(Wolf Creek) | C19: 14 | D19: 880.9
B20: Platoro | C20: 1
B21: Del Norte | C21: 1
B22: Creede | C22: 28 | D22: of 37.5
B23: Silverton(Stony Pass) | C23: 21 | D23: 959.2
B24: Durango | C24: 5
B25: Lake City(Spring Creek) | C25: 72 | D25: 998.9 | E25: y | F25: b | G25: =D27-D25 -> 100.7 | P25: to Pagosa Springs
B26: Monarch Mtn Lodge | C26: 27 | D26: 1099.6
B27: Salida(Monarch Pass) | C27: 83 | D27: 1099.6 | E27: y | F27: b | G27: =D29-D27 -> 84.4 | P27: to Lake City
B28: Buena Vista | C28: 4 | D28: 1142.1
B29: Twin Lakes | C29: 81 | D29: 1184 | E29: y | F29: m | G29: =D32-D29 -> 71.8 | H29: 1162 | I29: #7 | J29: 1 | K29: =H34-H29 -> 94 | L29: =G27 -> 84.4 | M29: 20 | N29: =L29/M29 -> 4.22 | O29: 4.5 | P29: to Salida | Q29: =IF(J29=2, O29, 0) -> 0 | R29: =IF(Q29=0,O29,0) -> 4.5 | S29: n | T29: y: general store
B30: Leadville | C30: 53 | D30: 1218
B31: Copper Mtn | C31: 22 | D31: 1241
B32: Breckenridge | C32: 50 | D32: 1255.8 | E32: m | F32: m | G32: =D33-D32 -> 54 | I32: #6.5 | J32: Maps only, NO FOOOOOOD | Q32: =IF(J32=2, O32, 0) -> 0 | R32: =IF(Q32=0,O32,0) -> 0
B33: I-70 | D33: =D32+54 -> 1309.8 | E33: m | F33: m | G33: =D41-D33 -> 77.1
B34: Frisco | C34: 4 | D34: 42.5 | H34: 1256
B35: Silverthorne | C35: 29 | D35: 42.5
B36: Dillon | C36: 8
B37: Idaho Springs | C37: 3
B38: Winter Park | C38: 19 | D38: 1331.3
B39: Fraser | C39: 19 | D39: 1331.3
B40: Denver | C40: 18
B41: Grand Lake | C41: 97 | D41: 1386.9 | E41: y | F41: m | G41: =D42-D41 -> 98.1 | H41: 1386.9 | I41: #6 | J41: 1 | K41: =H44-H41 -> 182.3 | L41: =G33+20 -> 97.1 | M41: 20 | N41: =L41/M41 -> 4.855 | O41: 5 | P41: to I-70 | Q41: =IF(J41=2, O41, 0) -> 0 | R41: =IF(Q41=0,O41,0) -> 5 | S41: n | T41: y: never summer mtn products
B42: Steamboat Springs(Rabbit Ears) | C42: 95 | D42: 1485 | E42: y | F42: b | G42: =D44-D42 -> 84.2 | P42: to Grand Lake
...

Sheet Gear Weight
A2: Group | B2: Item | C2: Weight (oz) | D2: b=baseweight | E2: Item Weight (oz) | F2: r=remove? | G2: Item Weight (oz)
A3: clothing | B3: Darn Tough - Mens | C3: 2.1 | D3: b | E3: =IF(D3="b",C3,"") -> 2.1
A4: clothing | B4: Darn Tough - Womens | C4: 1.9 | D4: b | E4: =IF(D4="b",C4,"") -> 1.9
A5: clothing | B5: UA underwear | C5: 2.1 | D5: b | E5: =IF(D5="b",C5,"") -> 2.1
A6: clothing | B6: Prana Pants | C6: 11.4 | E6: =IF(D6="b",C6,"")
A7: clothing | B7: Beanie - RWB | C7: 2.5 | D7: b | E7: =IF(D7="b",C7,"") -> 2.5 | J7: Final Pre-Trip Gear List
A8: clothing | B8: Beanie - rainbow | C8: 4.1 | E8: =IF(D8="b",C8,"") | K8: What? | L8: Description | M8: Weight (oz)
A9: clothing | B9: Stoic Wool T-shirt | C9: 5.3 | D9: b | E9: =IF(D9="b",C9,"") -> 5.3 | J9: clothing | K9: Insulated jacket | L9: Enlightened Equip. Torid jacket | M9: 7.25
A10: clothing | B10: UA Fleece | C10: 8.1 | E10: =IF(D10="b",C10,"") | K10: Base layer top | L10: Columbia Omni-heat mid | M10: 5.7
A11: clothing | B11: Nike Leggings | C11: 7.8 | E11: =IF(D11="b",C11,"") | K11: Extra socks | L11: Darn Tough x 2 | M11: =1.9*2 -> 3.8
A12: clothing | B12: Nike Quarterzip | C12: 8.8 | E12: =IF(D12="b",C12,"") | K12: Sleep underwear | L12: rainbow booty shorts | M12: 1.8
A13: clothing | B13: Columbia Disco shirt | C13: 5.7 | D13: b | E13: =IF(D13="b",C13,"") -> 5.7 | K13: Sleep shirt | L13: Stoic Wool T-shirt | M13: 5.3
A14: clothing | B14: Buzzoff red hoodie | C14: 8.6 | E14: =IF(D14="b",C14,"") | K14: Leggings | L14: Patagonia santa pants, women's | M14: 4.5
A15: clothing | B15: Ski Gloves | C15: 7.5 | E15: =IF(D15="b",C15,"") | K15: Warm hat | L15: thrift shop beanie | M15: 2.5
A16: clothing | B16: Liner Gloves | C16: 1.2 | E16: =IF(D16="b",C16,"") | K16: Gloves | L16: Old pair of Seirus somethings | M16: 3.6
A17: clothing | B17: Lei Out Shirt | C17: 5.1 | E17: =IF(D17="b",C17,"") | K17: Rain jacket | L17: O2 Original rain jacket | M17: 5.5
A18: clothing | B18: Pres Day Shirt | C18: 5.9 | E18: =IF(D18="b",C18,"") | K18: Wind pants | L18: Dance warm-up pants | M18: 3.5
A19: clothing | B19: Patagonia Fleece Pants | C19: 14.4 | E19: =IF(D19="b",C19,"") | K19: Rain skirt | L19: Rain Skirt/bag | M19: 2
A20: clothing | B20: OR Helium ii | C20: 6.2 | D20: b | E20: =IF(D20="b",C20,"") -> 6.2
A21: clothing | B21: O2 rain jacket | C21: 5.5 | D21: b | E21: =IF(D21="b",C21,"") -> 5.5
A22: clothing | B22: Arc'teryx Atom LT | C22: 12.8 | E22: =IF(D22="b",C22,"") | J22: electronics | K22: Camera | L22: Sony RX-100 MII | M22: 10.1
A23: clothing | B23: EE Torid jacket | C23: 7.25 | D23: b | E23: =IF(D23="b",C23,"") -> 7.25 | K23: Camera extras | L23: Camera case + battery | M23: 3.9
A24: clothing | B24: Gloves | C24: 3.6 | D24: b | E24: =IF(D24="b",C24,"") -> 3.6 | K24: Battery | L24: Yukuma 10,000mAh | M24: 11
A25: clothing | B25: REI Down jacket | C25: =16+7.3 -> 23.3 | E25: =IF(D25="b",C25,"") | K25: Battery charger | L25: Yukuma charging cord | M25: 5
A26: clothing | B26: REI Rainpants | C26: 9.6 | E26: =IF(D26="b",C26,"") | K26: Plug + cord | L26: Anker plug + USB cord | M26: 1.4
A27: clothing | B27: Dance Pants | C27: 3.5 | D27: b | E27: =IF(D27="b",C27,"") -> 3.5 | K27: Music | L27: Sansa Clip MP3 | M27: 0.9
A28: clothing | B28: REI Gaiters | C28: 6.3 | E28: =IF(D28="b",C28,"") | K28: Headphones | L28: Yurbuds | M28: 0.7
A29: clothing | B29: Sleep Socks | C29: 1.1 | E29: =IF(D29="b",C29,"") | K29: Phone | L29: Moto G4 Plus w/ case | M29: 6.5
A30: clothing | B30: Rain Skirt/bag | C30: 2 | D30: b | E30: =IF(D30="b",C30,"") -> 2 | K30: PLB | L30: SPOT | M30: 4.7
A31: clothing body | B31: Buff | C31: 1.5 | E31: =IF(D31="b",C31,"") | K31: Flashlight | L31: Petzl Tikka Plus 2 w/ custom strap | M31: 2
A32: clothing body | B32: Sunglasses - Duco | C32: 1 | E32: =IF(D32="b",C32,"") | K32: Batteries | L32: AAA Energizer Lithium x 4 | M32: 1.2
A33: clothing body | B33: Swimsuit | C33: 5.2 | E33: =IF(D33="b",C33,"")
A34: clothing body | B34: Watch | C34: 1.4 | E34: =IF(D34="b",C34,"")
A35: clothing body | B35: Squid Hat | C35: 2.2 | E35: =IF(D35="b",C35,"")
A36: clothing body | B36: Rainier Hat w/ string | C36: 3.8 | E36: =IF(D36="b",C36,"")
A37: clothing body | B37: Columbia hiking shirt | C37: 7.4 | E37: =IF(D37="b",C37,"") | J37: gear | K37: Ice Axe | L37: BD Raven Pro | M37: 13.3
A38: electronics | B38: Camera | C38: 10.1 | D38: b | E38: =IF(D38="b",C38,"") -> 10.1 | F38: r | G38: =E38 -> 10.1 | K38: Traction | L38: Kahtoola microspikes | M38: 13.3
A39: electronics | B39: Camera Case | C39: 3.1 | D39: b | E39: =IF(D39="b",C39,"") -> 3.1 | F39: r | G39: =E39 -> 3.1 | K39: Bear Spray | L39: Counter Assault | M39: 11
A40: electronics | B40: Camera Battery extra | C40: 0.8 | D40: b | E40: =IF(D40="b",C40,"") -> 0.8 | F40: r | G40: =E40 -> 0.8 | K40: Umbrella | L40: Euroschirm chrome | M40: 8.3
A41: electronics | B41: Kindle in case | C41: 11.1 | E41: =IF(D41="b",C41,"") | K41: Knife | L41: Mini swiss army knife | M41: 0.7
...
